Workbook

Sheet Свод
A1: СВОД. Отчет о работе ГБУ РК "ЦСО Симферопольского района" за период январь-июнь 2021г.
A3: № п/п | B3: Наименование учреждения | C3: общее кол-во отделений | D3: в т.ч. в разрезе отделений | L3: Граждане, обслуженные учреждением , в том числе: | R3: в т.ч. обслуженные учреждением в разрезе отделений: | Y3: Граждане выявленные нуждающимися в отчетном периоде (т.е новые) | AA3: Сведения о предоставлении социальных услуг "Мобильными бригадами" | AF3: Наличие действующих клубов, кружков, университет третьего возраста | AI3: число граждан, получивших социальное сопровождение | AK3: Выполнение государственного задания доведенного приказом Министерства (только гарантированные услуги) | AQ3: Предоставление социальных услуг за плату | AW3: Средства, поступившие на спец.счет (внебюджет)
D4: социальная помощь на дому | E4: дневное пребывание граждан пожилого возраста и инвалидов | F4: социально-реабилитационное отделение для граждан пожилого возраст и инвалидов | G4: социально-реабилитационное отделение детей инвалидов | H4: срочное социальное обслуживание | I4: спецсоциально-медицинское обслуживание граждан, проживающих компактно в специальном жилом доме пожилых граждан и инвалидов | J4: стационарное гериатрическое отделение для постоянного и временного проживания | K4: организационно-методическое | L4: всего | M4: инвалиды | P4: ветераны ВОВ (5 ФЗ и 35 ЗРК) | Q4: из стр. 15 ветераны ВОВ по 5 ФЗ | R4: социальная помощь на дому | S4: дневное пребывание граждан пожилого возраста и инвалидов | T4: социально-реабилитационное отделение для граждан пожилого возраст и инвалидов | U4: социально-реабилитационное отделение детей инвалидов | V4: срочное социальное обслуживание | W4: социально-медицинское обслуживание граждан, проживающих компактно в специальном жилом доме пожилых граждан и инвалидов | X4: стационарное гериатрическое отделение для постоянного и временного проживания | Y4: всего | Z4: из них оформлены на социальное обслуживане | AA4: кол-во населенных пунктов | AB4: из стр. 27 населенные пункты, не охваченные постоянным социальным обслуживанием | AC4: осуществлено выездов мобильных бригад | AF4: клубы, кружки | AG4: университе третьего возраста | AK4: социальное обслуживание в стационарной форме | AM4: социальное обслуживание в полустационарной форме | AO4: социальное обслуживание в надомной форме | AQ4: Гарантированные услуги | AU4: Дополнительные услуги | AW4: Всего (руб.) | AX4: за социальное обслуживание (гарантированные + дополнительные платные услуги) | AY4: перечесление пенсии (75%) | AZ4: благотворительные взносы , пожертвования и др. | BA4: Остаток средств на спец.счете учреждения на последнее число отчет-ного периода
M5: всего | N5: инвалиды ВОВ (5 ФЗ и 35 ЗРК) | O5: из стр. 13 инвалиды ВОВ по 5 ФЗ | AC5: всего | AD5: граждане, обслужен-ные мобильными бригадами | AG5: Кол-во факультетов | AH5: кол-во обучающихся | AI5: всего | AJ5: из них инвалиды ВОВ и ветераны ВОВ | AK5: План | AL5: Факт | AM5: План | AN5: Факт | AO5: План | AP5: Факт | AQ5: На условиях полной оплаты | AS5: На условиях частичной оплаты | BB5: Проверка
D6: ед. | E6: ед. | F6: ед. | G6: ед. | H6: ед. | I6: ед. | J6: ед. | K6: ед. | L6: чел. | M6: чел. | N6: чел. | O6: чел. | P6: чел. | Q6: чел. | R6: чел. | S6: чел. | T6: чел. | U6: чел. | V6: чел. | W6: чел. | X6: чел. | Y6: чел. | Z6: чел. | AA6: ед. | AB6: ед. | AC6: ед. | AD6: чел. | AE6: услуг | AF6: ед. | AG6: ед. | AH6: чел. | AI6: чел. | AJ6: чел. | AK6: ед. | AL6: ед. | AM6: ед. | AN6: ед. | AO6: ед. | AP6: ед. | AQ6: чел. | AR6: услуг | AS6: чел. | AT6: услуг | AU6: чел. | AV6: услуг | AW6: руб. | AX6: руб. | AY6: руб. | AZ6: руб. | BA6: руб.
B7: 1 | C7: 2=3+4+5+6+7+8+9+10 | D7: 3 | E7: 4 | F7: 5 | G7: 6 | H7: 7 | I7: 8 | J7: 9 | K7: 10 | L7: 11=(17+18+19+20+21+22+23) | M7: 12 | N7: 13 | O7: 14 | P7: 15 | Q7: 16 | R7: 17 | S7: =R7+1 -> 18 | T7: =S7+1 -> 19 | U7: =T7+1 -> 20 | V7: =U7+1 -> 21 | W7: =V7+1 -> 22 | X7: 23 | Y7: =X7+1 -> 24 | Z7: =Y7+1 -> 25 | AA7: =Z7+1 -> 26 | AB7: 27 | AC7: 28 | AD7: =AC7+1 -> 29 | AE7: =AD7+1 -> 30 | AF7: =AE7+1 -> 31 | AG7: =AF7+1 -> 32 | AH7: =AG7+1 -> 33 | AI7: =AH7+1 -> 34 | AJ7: =AI7+1 -> 35 | AK7: =AJ7+1 -> 36 | ... AV7: =AU7+1 -> 47 | AW7: 48=(49+50+51) | AX7: 49 | AY7: 50 | AZ7: 51 | BA7: 52
A8: 1 | B8: ГБУ РК "ЦСО Симферопольского района" | C8: 13 | D8: 6 | E8: 6 | F8: 0 | G8: 0 | H8: 1 | I8: 0 | J8: 0 | K8: 0 | L8: 1185 | M8: 466 | N8: 7 | O8: 6 | P8: 89 | Q8: 11 | R8: 1053 | S8: 132 | T8: 0 | U8: 0 | V8: 0 | W8: 0 | X8: 0 | Y8: 175 | Z8: 172 | AA8: 109 | AB8: 16 | AC8: 133 | AD8: 123 | AE8: 199 | AF8: 6 | AG8: 0 | AH8: 0 | AI8: 0 | AJ8: 0 | AK8: 0 | AL8: 0 | AM8: 250 | AN8: 132 | AO8: 1100 | AP8: 1153 | AQ8: 35 | AR8: 1971 | AS8: 16 | AT8: 4749 | AU8: 88 | AV8: 199 | AW8: 420176.32 | AX8: 420176.32 | AY8: 0 | AZ8: 0 | BA8: 14463.48 | BB8: =L8-R8-S8-T8-U8-V8-W8-X8 -> 0

Sheet на дому
C3: Раздел II. Отделения социального обслуживания на дому
A4: № п/п | B4: Наименование учреждения | C4: кол-во отделений | D4: Граждане, обслуженные учреждением | M4: Оказанные услуги (Включаем все услуги, в т.ч. дополнительные)
D5: Всего | E5: в т.ч. инвалиды | H5: в т.ч. ветераны ВОВ | J5: в сельских условиях | K5: в городских условиях | L5: на условиях оплаты | M5: Всего | O5: социально-бытовые | Q5: социально-медицинские | S5: социально-психологические | U5: социально-трудовые | W5: социально-педагогические | Y5: социально-правовые | AA5: услуги в целях повышения коммуникативного потенциала получателей социальных услуг
E6: из стр. 3 инвалидов | F6: из стр. 4 инвалидов ВОВ (5 ФЗ и 35 ЗРК) | G6: из стр.5 инвалидов ВОВ по 5 ФЗ | H6: из стр. 3 ветеранов ВОВ (5 ФЗ и 35 ЗРК) | I6: из стр. 7 ветеранов ВОВ по 5 ФЗ
C7: ед. | D7: чел. | E7: чел. | F7: чел. | G7: чел. | H7: чел. | I7: чел. | J7: чел. | K7: чел. | L7: чел. | M7: чел. | N7: усл. | O7: чел. | P7: усл. | Q7: чел. | R7: усл. | S7: чел. | T7: усл. | U7: чел. | V7: усл. | W7: чел. | X7: усл. | Y7: чел. | Z7: усл. | AA7: чел. | AB7: усл.
B8: 1 | C8: 2 | D8: 3 | E8: 4 | F8: 5 | G8: 6 | H8: 7 | I8: 8 | J8: 9 | K8: 10 | L8: 11 | M8: 12 | N8: 13 | O8: 14 | P8: 15 | Q8: 16 | R8: 17 | S8: 18 | T8: 19 | U8: 20 | V8: 21 | W8: 22 | X8: 23 | Y8: 24 | Z8: 25 | AA8: 26 | AB8: 27
A9: 1 | B9: ГБУ РК "ЦСО Симферопольского района" | C9: 6 | D9: 1053 | E9: 438 | F9: 7 | G9: 6 | H9: 89 | I9: 11 | J9: 1053 | K9: 0 | L9: 46 | M9: 1053 | N9: 129565 | O9: 1043 | P9: 77936 | Q9: 955 | R9: 42406 | S9: 665 | T9: 8270 | U9: 0 | V9: 0 | W9: 0 | X9: 0 | Y9: 179 | Z9: 953 | AA9: 0 | AB9: 0 | AD9: =N9-P9-R9-T9-Z9 -> 0 | AE9: =P9+R9+T9+Z9 -> 129565

Sheet соц.реаб.
B2: Раздел III Социально-реабилитаионное отделение для граждан пожилого возраста и инвалидов
A4: № п/п | B4: Наименование учреждения | C4: кол-во отделений | D4: Граждане, обслуженные учреждением | K4: Оказанные услуги (Включаем все услуги, в т.ч. дополнительные)
D5: Всего | E5: в т.ч.инвалиды | H5: в т.ч. Ветераны ВОВ | J5: на условиях оплаты | K5: Всего | M5: социально - бытовые | O5: социально-медицинские | Q5: социально-психологические | S5: социально-педагогическое | U5: социально - трудовые | W5: социально-правовые | Y5: услуги в целях повышения коммуникативного потенциала получателей социальных услуг
E6: всего | F6: из стр. 4 инвалиды ВОВ (5 ФЗ и 35 ЗРК) | G6: из стр.5 инвалиды ВОВ по 5 ФЗ | H6: из стр. 3 ветеранов ВОВ (5 ФЗ и 35 ЗРК) | I6: из стр. 7 ветеранов ВОВ по 5 ФЗ | AA6: Проверка | AC6: Дополнительная проверка услуг
C7: ед. | D7: чел. | E7: чел. | F7: чел. | G7: чел. | H7: чел. | I7: чел. | J7: чел. | K7: чел. | L7: усл. | M7: чел. | N7: усл. | O7: чел. | P7: усл. | Q7: чел. | R7: усл. | S7: чел. | T7: усл. | U7: чел. | V7: усл. | W7: чел. | X7: усл. | Y7: чел. | Z7: усл.
B8: 1 | C8: 2 | D8: 3 | E8: 4 | F8: 5 | G8: 6 | H8: 7 | I8: 8 | J8: 9 | K8: 10 | L8: 11 | M8: 12 | N8: 13 | O8: 14 | P8: 15 | Q8: 16 | R8: 17 | S8: 18 | T8: 19 | U8: 20 | V8: 21 | W8: 22 | X8: 23 | Y8: 24 | Z8: 25
A9: 1 | AA9: =L9-N9-P9-R9-T9-V9-X9-Z9 -> 0 | AC9: =SUM(N9+P9+R9+T9+V9+X9+Z9) -> 0 | AD9: =L9-AC9 -> 0

Sheet срочное
B1: Раздел IV. Оказанные срочные социальные услуги
A3: № п/п | B3: Наименование учреждения | C3: кол-во отделений | D3: Граждане, которым оказаны срочные социальные услуги
D4: Всего | F4: в том числе | N4: инвалиды | Q4: участники ВОВ
F6: граждане, состоящие на социальном обслуживании учреждения | J6: граждане, не состоящие на социальном обслуживании учреждения | N6: всего | O6: из стр. 13 инвалиды ВОВ (5 ФЗ и 35 ЗРК) | P6: из стр.14 инвалиды ВОВ по 5 ФЗ | Q6: из стр. 3 ветеранов ВОВ (5 ФЗ и 35 ЗРК) | R6: из стр. 16 ветеранов ВОВ по 5 ФЗ
F7: оказаны услуги на дому | H7: оказаны услуги в полустационарной форме | J7: оказаны услуги на дому | L7: оказаны услуги в полустационарной форме
C8: ед. | D8: чел. | E8: усл. | F8: чел. | G8: усл. | H8: чел. | I8: усл. | J8: чел. | K8: усл. | L8: чел. | M8: усл. | N8: чел. | O8: чел. | P8: чел. | Q8: чел. | R8: чел.
B9: 1 | C9: 2 | D9: 3=5+7+9+11 | E9: 4=6+8+10+12 | F9: 5 | G9: 6 | H9: 7 | I9: 8 | J9: 9 | K9: 10 | L9: 11 | M9: 12 | N9: 13 | O9: 14 | P9: 15 | Q9: 16 | R9: 17
A10: 1 | B10: ГБУ РК "ЦСО Симферопольского района" | C10: 1 | D10: 149 | E10: 180 | F10: 149 | G10: 180 | H10: 0 | I10: 0 | J10: 0 | K10: 0 | L10: 0 | M10: 0 | N10: 0 | O10: 0 | P10: 0 | Q10: 0 | R10: 0 | T10: =SUM(F10+H10+J10+L10) -> 149 | U10: =SUM(G10+I10+K10+M10) -> 180 | V10: =SUM(G10+I10+K10+M10) -> 180

Sheet соц.такси
B1: Раздел V. Оказание дополнительной услуги "социальное такси"
A3: № п/п | B3: Наименование учреждения | C3: Услуга социальное такси | I3: Средства, поступившие на спец.счет за предоставление услуги "социальное такси" | J3: ТСР
C6: Всего | E6: Бесплатно | G6: За плату
C7: чел. | D7: усл. | E7: чел. | F7: усл. | G7: чел. | H7: усл. | I7: руб. | J7: руб.
B8: 1 | C8: 2=4+6 | D8: 3=5+7 | E8: 4 | F8: 5 | G8: 6 | H8: 7 | I8: 8 | J8: 9
A9: 1 | B9: ГБУ РК "ЦСО Симферопольского района" | C9: 57 | D9: 170 | E9: 10 | F9: 24 | G9: 47 | H9: 146 | I9: 48285.5 | J9: 0 | L9: =SUM(E9+G9) -> 57 | M9: =SUM(F9+H9) -> 170

Sheet дневное
C1: Раздел VI Отделения дневного пребывания
A4: № п/п | B4: Наименование учреждения | C4: кол-во отделений | D4: Обслуженные граждане | K4: Оказанные услуги (Включаем все услуги, в т.ч. дополнительные)
D5: Всего | E5: инвалиды | H5: участники ВОВ | J5: Граждане, обслуженные на условиях оплаты | K5: Всего | M5: социально-бытовые | O5: социально-медицинские | Q5: социально-психологические | S5: социально-педагогическое | U5: социально-трудовые | W5: социально-правовые | Y5: услуги в целях повышения коммуникативного потенциала получателей социальных услуг
E6: всего | F6: из стр. 4 инвалиды ВОВ (5 ФЗ и 35 ЗРК) | G6: из стр.5 инвалиды ВОВ по 5 ФЗ | H6: из стр. 3 ветеранов ВОВ (5 ФЗ и 35 ЗРК) | I6: из стр. 7 ветеранов ВОВ по 5 ФЗ | AA6: Проверка | AC6: Дополнительная проверка услуг
C7: ед. | D7: чел. | E7: чел. | F7: чел. | G7: чел. | H7: чел. | I7: чел. | J7: чел. | K7: чел. | L7: усл. | M7: чел. | N7: усл. | O7: чел. | P7: усл. | Q7: чел. | R7: усл. | S7: чел. | T7: усл. | U7: чел. | V7: усл. | W7: чел. | X7: усл. | Y7: чел. | Z7: усл.
B8: 1 | C8: 2 | D8: 3 | E8: 4 | F8: 5 | G8: 6 | H8: 7 | I8: 8 | J8: 9 | K8: 10 | L8: 11 | M8: 12 | N8: 13 | O8: 14 | P8: 15 | Q8: 16 | R8: 17 | S8: 18 | T8: 19 | U8: 20 | V8: 21 | W8: 22 | X8: 23 | Y8: 24 | Z8: 25
A9: 1 | B9: ГБУ РК "ЦСО Симферопольского района" | C9: 6 | D9: 132 | E9: 28 | F9: 0 | G9: 0 | H9: 0 | I9: 0 | J9: 5 | K9: 132 | L9: 14989 | M9: 36 | N9: 46 | O9: 129 | P9: 6434 | Q9: 121 | R9: 3848 | S9: 127 | T9: 4661 | U9: 0 | V9: 0 | W9: 0 | X9: 0 | Y9: 0 | Z9: 0 | AA9: =L9-(N9+P9+R9+T9+V9+X9+Z9) -> 0 | AC9: =SUM(N9+P9+R9+T9+V9+X9+Z9) -> 14989 | AD9: =L9-AC9 -> 0

Sheet компл.центры
C1: Раздел VII. Отделения временного(постоянного) проживания для граждан пожилого возраста и инвалидов
A3: № п/п | B3: Наименование учреждения | C3: Наличие мест | D3: Граждане, находящиеся на обслуживании на последнее число месяца | E3: Оказанные услуги (Включаем все услуги, в т.ч. дополнительные) | W3: Стоимость питания одного человека в день | X3: Стоимость социального обслуживания одного человека в месяц | Y3: Средства, поступившие на спец. счет за обслуживание
E4: Всего | G4: В том числе инвалиды | I4: социально-бытовые | K4: социально-медицинские | M4: социально-психологические | O4: социально-педагогические | Q4: социально-трудовые | S4: социально-правовые | U4: услуги в целях повышения коммуникативного потенциала получателей социальных услуг
AL6: Оказанные услуги | AO6: Проверка | AQ6: Дополнительная проверка услуг
C7: ед. | D7: чел. | E7: чел. | F7: усл. | G7: чел. | H7: усл. | I7: чел. | J7: усл. | K7: чел. | L7: усл. | M7: чел. | N7: усл. | O7: чел. | P7: усл. | Q7: чел. | R7: усл. | S7: чел. | T7: усл. | U7: чел. | V7: усл. | W7: руб. | X7: руб. | Y7: руб. | AL7: всего
Z12: 1465740 | AO12: =SUM(J12+L12+N12+P12+R12+T12+V12) -> 0 | AQ12: =SUM(J12+L12+N12+P12+R12+T12+V12) -> 0 | AR12: =F12-AQ12 -> 0
AO13: =SUM(J13+L13+N13+P13+R13+T13+V13) -> 0 | AQ13: =SUM(J13+L13+N13+P13+R13+T13+V13) -> 0 | AR13: =F13-AQ13 -> 0
AO14: =SUM(J14+L14+N14+P14+R14+T14+V14) -> 0 | AQ14: =SUM(J14+L14+N14+P14+R14+T14+V14) -> 0 | AR14: =F14-AQ14 -> 0

Sheet соц.реаб. детей
B1: Раздел VII Социально-реабилитаионное отделение для детей инвалидов
A4: № п/п | B4: Наименование учреждения | C4: кол-во отделений | D4: Граждане, получившие социальные услуги | G4: Оказанные услуги
D5: Всего | E5: МАЛЬЧИКИ | F5: ДЕВОЧКИ | G5: Всего | I5: социально-бытовые | K5: социально-медицинские | M5: социально-психологические | O5: социально-педагогическое | Q5: социально-трудовые | S5: социально-правовые | U5: услуги в целях повышения коммуникативного потенциала получателей социальных услуг
W6: Проверка
C7: ед. | D7: чел. | E7: чел. | F7: чел. | G7: чел. | H7: усл. | I7: чел. | J7: усл. | K7: чел. | L7: усл. | M7: чел. | N7: усл. | O7: чел. | P7: усл. | Q7: чел. | R7: усл. | S7: чел. | T7: усл. | U7: чел. | V7: усл.
A8: 1 | W8: =H8-J8-L8-N8-P8-R8-T8-V8 -> 0 | Y8: =SUM(J8+L8+N8+P8+R8+T8+V8) -> 0 | Z8: =H8-Y8 -> 0

Sheet Услуги по крыму
C1: на дому | D1: соц.реб. | E1: срочные | F1: соц.такси | G1: Дневное | H1: соц.реб.детей | I1: ВСЕГО
A2: 1 | C2: ='на дому'!N9 -> 129565 | D2: =соц.реаб.!L9 -> 0 | E2: =SUM(срочное!G10+срочное!I10+срочное!K10+срочное!M10) -> 180 | F2: =соц.такси!D9 -> 170 | G2: =дневное!L9 -> 14989 | H2: ='соц.реаб. детей'!H8 -> 0 | I2: =SUM(C2:H2) -> 144904
